BEGIN:VCALENDAR
VERSION:2.0
PRODID:-//wp-events-plugin.com//7.2.3.1//EN
TZID:Europe/London
X-WR-TIMEZONE:Europe/London
BEGIN:VEVENT
UID:469@blog.conducttr.com
DTSTART;TZID=Europe/London;VALUE=DATE:20260407
DTEND;TZID=Europe/London;VALUE=DATE:20300703
DTSTAMP:20260325T140915Z
URL:https://blog.conducttr.com/events/tuesday-tune-up-client-only
SUMMARY:Tuesday Tune-up – Client only
DESCRIPTION:Our Tuesday Tune-up 30-min client-only sessions are all about 
 getting the most from Conducttr.\n\nEvery month we cover different topics 
 that will make your exercises easier to design and more engaging for your 
 training audience.\n\nThere will be two sessions\, join the one that suits
  you best.\n\n 	1st Session - 8am\, London | 5pm\, Sydney | 7pm\, Auckland
 \n 	2nd Session - 3pm\, London | 10am\, New York | 7am\, Los Angeles\n\nTu
 esday Tune-ups are regular client-only Zoom meetings. Our host will sha
 re some tips and ideas but feel free to intervene as much as you like via
  Chat or open discussions\nIf you are a client\, contact your account mana
 ger to get access.
ATTACH;FMTTYPE=image/jpeg:https://blog.conducttr.com/wp-content/uploads/20
 26/03/25-03-2026_15-07-58.png
CATEGORIES:Workshop
END:VEVENT
BEGIN:VTIMEZONE
TZID:Europe/London
X-LIC-LOCATION:Europe/London
BEGIN:DAYLIGHT
DTSTART:20260329T020000
TZOFFSETFROM:+0000
TZOFFSETTO:+0100
TZNAME:BST
END:DAYLIGHT
BEGIN:STANDARD
DTSTART:20261025T010000
TZOFFSETFROM:+0100
TZOFFSETTO:+0000
TZNAME:GMT
END:STANDARD
BEGIN:DAYLIGHT
DTSTART:20270328T020000
TZOFFSETFROM:+0000
TZOFFSETTO:+0100
TZNAME:BST
END:DAYLIGHT
BEGIN:STANDARD
DTSTART:20271031T010000
TZOFFSETFROM:+0100
TZOFFSETTO:+0000
TZNAME:GMT
END:STANDARD
BEGIN:DAYLIGHT
DTSTART:20280326T020000
TZOFFSETFROM:+0000
TZOFFSETTO:+0100
TZNAME:BST
END:DAYLIGHT
BEGIN:STANDARD
DTSTART:20281029T010000
TZOFFSETFROM:+0100
TZOFFSETTO:+0000
TZNAME:GMT
END:STANDARD
BEGIN:DAYLIGHT
DTSTART:20290325T020000
TZOFFSETFROM:+0000
TZOFFSETTO:+0100
TZNAME:BST
END:DAYLIGHT
BEGIN:STANDARD
DTSTART:20291028T010000
TZOFFSETFROM:+0100
TZOFFSETTO:+0000
TZNAME:GMT
END:STANDARD
BEGIN:DAYLIGHT
DTSTART:20300331T020000
TZOFFSETFROM:+0000
TZOFFSETTO:+0100
TZNAME:BST
END:DAYLIGHT
END:VTIMEZONE
END:VCALENDAR