BEGIN:VCALENDAR
VERSION:2.0
PRODID:-//wp-events-plugin.com//7.2.3.1//EN
TZID:Europe/London
X-WR-TIMEZONE:Europe/London
BEGIN:VEVENT
UID:307@blog.conducttr.com
DTSTART;TZID=Europe/London:20260408T150000
DTEND;TZID=Europe/London:20300508T160000
DTSTAMP:20260325T124124Z
URL:https://blog.conducttr.com/events/reputational-crisis-monthly-live-sim
SUMMARY:Reputational crisis – Monthly live sim
DESCRIPTION:Reputational crisis - Monthly live sim\nFeatures we cover\n\n 	
 Graph channel for stock monitoring.\n 	Collaboration with instant messagin
 g.\n 	Social media: tweets\, quote retweets\, scheduled tweets\, pin tweet
 s\, social graph.\n 	Social listening with sentiment analysis.\n 	Social m
 ap.\n 	Press articles and press releases.\n 	Web search.\n 	Alerts channel
  and pop-ups.\n 	Impersonation\n 	Pattern of Life for tweetstorm and custo
 mer complaints.\n 	Map channel for oil spread monitoring.\n\nRegister here
ATTACH;FMTTYPE=image/jpeg:https://blog.conducttr.com/wp-content/uploads/20
 26/03/reputational-new.jpg
CATEGORIES:Live sim
LOCATION:https://www.conducttr.com/try-it-now
END:VEVENT
BEGIN:VTIMEZONE
TZID:Europe/London
X-LIC-LOCATION:Europe/London
BEGIN:DAYLIGHT
DTSTART:20260329T020000
TZOFFSETFROM:+0000
TZOFFSETTO:+0100
TZNAME:BST
END:DAYLIGHT
BEGIN:STANDARD
DTSTART:20261025T010000
TZOFFSETFROM:+0100
TZOFFSETTO:+0000
TZNAME:GMT
END:STANDARD
BEGIN:DAYLIGHT
DTSTART:20270328T020000
TZOFFSETFROM:+0000
TZOFFSETTO:+0100
TZNAME:BST
END:DAYLIGHT
BEGIN:STANDARD
DTSTART:20271031T010000
TZOFFSETFROM:+0100
TZOFFSETTO:+0000
TZNAME:GMT
END:STANDARD
BEGIN:DAYLIGHT
DTSTART:20280326T020000
TZOFFSETFROM:+0000
TZOFFSETTO:+0100
TZNAME:BST
END:DAYLIGHT
BEGIN:STANDARD
DTSTART:20281029T010000
TZOFFSETFROM:+0100
TZOFFSETTO:+0000
TZNAME:GMT
END:STANDARD
BEGIN:DAYLIGHT
DTSTART:20290325T020000
TZOFFSETFROM:+0000
TZOFFSETTO:+0100
TZNAME:BST
END:DAYLIGHT
BEGIN:STANDARD
DTSTART:20291028T010000
TZOFFSETFROM:+0100
TZOFFSETTO:+0000
TZNAME:GMT
END:STANDARD
BEGIN:DAYLIGHT
DTSTART:20300331T020000
TZOFFSETFROM:+0000
TZOFFSETTO:+0100
TZNAME:BST
END:DAYLIGHT
END:VTIMEZONE
END:VCALENDAR