BEGIN:VCALENDAR
VERSION:2.0
PRODID:-//wp-events-plugin.com//7.2.3.1//EN
TZID:Europe/London
X-WR-TIMEZONE:Europe/London
BEGIN:VEVENT
UID:4@blog.conducttr.com
DTSTART;TZID=Europe/London:20260401T150000
DTEND;TZID=Europe/London:20300403T160000
DTSTAMP:20260325T133325Z
URL:https://blog.conducttr.com/events/ransomware-attack-monthly-live-sim
SUMMARY:Ransomware attack – Monthly live sim
DESCRIPTION:Ransomware attack - Monthly live sim\nYou are the incident mana
 ger at a major London bank when a ransomware attack hits\, coordinating ef
 forts to protect operations and reputation.\n\nFeatures we cover\n\n 	Emai
 l: compose\, shared inbox\, cc\, forward\, reply\, attachments.\n 	Messagi
 ng with bank colleagues and simulated crisis chat (using Msngr+)\n 	Breaki
 ng news videos.\n 	Pattern of life for public sentiment and online chatter
 .\n 	Collaboration with instant messaging.\n 	Network dashboard updates (v
 ia the diagram channel).\n 	Share Price tracking.\n 	Story branching and l
 ive decision making.\n 	Automated phone calls.\n\nRegister here
ATTACH;FMTTYPE=image/jpeg:https://blog.conducttr.com/wp-content/uploads/20
 26/03/ransomware-live-sim-new-2.jpg
CATEGORIES:Live sim
LOCATION:https://www.conducttr.com/try-it-now
END:VEVENT
BEGIN:VTIMEZONE
TZID:Europe/London
X-LIC-LOCATION:Europe/London
BEGIN:DAYLIGHT
DTSTART:20260329T020000
TZOFFSETFROM:+0000
TZOFFSETTO:+0100
TZNAME:BST
END:DAYLIGHT
BEGIN:STANDARD
DTSTART:20261025T010000
TZOFFSETFROM:+0100
TZOFFSETTO:+0000
TZNAME:GMT
END:STANDARD
BEGIN:DAYLIGHT
DTSTART:20270328T020000
TZOFFSETFROM:+0000
TZOFFSETTO:+0100
TZNAME:BST
END:DAYLIGHT
BEGIN:STANDARD
DTSTART:20271031T010000
TZOFFSETFROM:+0100
TZOFFSETTO:+0000
TZNAME:GMT
END:STANDARD
BEGIN:DAYLIGHT
DTSTART:20280326T020000
TZOFFSETFROM:+0000
TZOFFSETTO:+0100
TZNAME:BST
END:DAYLIGHT
BEGIN:STANDARD
DTSTART:20281029T010000
TZOFFSETFROM:+0100
TZOFFSETTO:+0000
TZNAME:GMT
END:STANDARD
BEGIN:DAYLIGHT
DTSTART:20290325T020000
TZOFFSETFROM:+0000
TZOFFSETTO:+0100
TZNAME:BST
END:DAYLIGHT
BEGIN:STANDARD
DTSTART:20291028T010000
TZOFFSETFROM:+0100
TZOFFSETTO:+0000
TZNAME:GMT
END:STANDARD
BEGIN:DAYLIGHT
DTSTART:20300331T020000
TZOFFSETFROM:+0000
TZOFFSETTO:+0100
TZNAME:BST
END:DAYLIGHT
END:VTIMEZONE
END:VCALENDAR