BEGIN:VCALENDAR
VERSION:2.0
PRODID:-//wp-events-plugin.com//7.2.3.1//EN
TZID:Europe/London
X-WR-TIMEZONE:Europe/London
BEGIN:VEVENT
UID:466@blog.conducttr.com
DTSTART;TZID=Europe/London:20260422T150000
DTEND;TZID=Europe/London:20260422T160000
DTSTAMP:20260325T132957Z
URL:https://blog.conducttr.com/events/crisis-designer-forum-online-roundta
 ble
SUMMARY:Crisis Designer Forum – Online roundtable
DESCRIPTION:Crisis Designer Forum - Online roundtable\nThe Crisis Designer 
 Forum brings together experienced practitioners from across cyber security
 \, crisis management\, and resilience to explore how organisations can bet
 ter prepare for high-impact incidents.\nIn this session\, we’re joined b
 y Tim Klaassen\, Senior Crisis Management and Business Continuity Consulta
 nt at PwC Netherlands\, and Bartosz Misiuro\, Global Security Incident Man
 agement Lead at Atos.\nTogether\, they will share practical insights from 
 both consulting and operational perspectives\, covering how organisations 
 design\, test\, and strengthen their crisis response capabilities. The dis
 cussion will explore topics such as:\n\n\n 	Preparing teams for cyber and 
 operational incidents\n 	Designing realistic and impactful crisis exercise
 s\n 	Bridging the gap between plans and real-world response\n 	Building or
 ganisational resilience across teams and geographies\n\nThis forum is desi
 gned for professionals working in crisis management\, cyber security\, bus
 iness continuity\, and risk\, offering a chance to learn from real-world e
 xperience and exchange ideas on what truly makes organisations ready.
ATTACH;FMTTYPE=image/jpeg:https://blog.conducttr.com/wp-content/uploads/20
 26/03/Crisis-Designer-Forum-April-22nd.jpg
CATEGORIES:Online roundtable
LOCATION:https://www.conducttr.com/crisis-designer-forum
END:VEVENT
BEGIN:VTIMEZONE
TZID:Europe/London
X-LIC-LOCATION:Europe/London
BEGIN:DAYLIGHT
DTSTART:20260329T020000
TZOFFSETFROM:+0000
TZOFFSETTO:+0100
TZNAME:BST
END:DAYLIGHT
END:VTIMEZONE
END:VCALENDAR