BEGIN:VCALENDAR
VERSION:2.0
PRODID:-//wp-events-plugin.com//7.2.3.1//EN
TZID:Europe/London
X-WR-TIMEZONE:Europe/London
BEGIN:VEVENT
UID:154@blog.conducttr.com
DTSTART;TZID=Europe/London:20260408T150000
DTEND;TZID=Europe/London:20300508T160000
DTSTAMP:20260325T124016Z
URL:https://blog.conducttr.com/events/ai-data-breach-crisis-monthly-live-s
 im
SUMMARY:AI Data Breach crisis – Monthly live sim
DESCRIPTION:AI Data Breach Crisis - Monthly live sim\nYou are the Crisis Re
 sponse Manager at a UK insurance firm when an AI data breach hits\, managi
 ng compliance\, trust\, and reputation in real time.\n\nFeatures we cover\
 n\n 	Website and search simulation with controllable ranking and promoted 
 content.\n 	Team communication channels for collaboration and coordination
 .\n 	Integrated video for podcast and breaking news clips.\n 	Interactive 
 multiple-choice buttons for live decision branching.\n 	Help desk simulati
 on for customer ticket handling\, routing and escalations.\n 	Paid promoti
 ons and boosted search listings for visibility testing.Features we cover\n
 \nRegister here
ATTACH;FMTTYPE=image/jpeg:https://blog.conducttr.com/wp-content/uploads/20
 26/03/AIDataBreach-livesim.jpg
CATEGORIES:Live sim
LOCATION:https://www.conducttr.com/try-it-now
END:VEVENT
BEGIN:VTIMEZONE
TZID:Europe/London
X-LIC-LOCATION:Europe/London
BEGIN:DAYLIGHT
DTSTART:20260329T020000
TZOFFSETFROM:+0000
TZOFFSETTO:+0100
TZNAME:BST
END:DAYLIGHT
BEGIN:STANDARD
DTSTART:20261025T010000
TZOFFSETFROM:+0100
TZOFFSETTO:+0000
TZNAME:GMT
END:STANDARD
BEGIN:DAYLIGHT
DTSTART:20270328T020000
TZOFFSETFROM:+0000
TZOFFSETTO:+0100
TZNAME:BST
END:DAYLIGHT
BEGIN:STANDARD
DTSTART:20271031T010000
TZOFFSETFROM:+0100
TZOFFSETTO:+0000
TZNAME:GMT
END:STANDARD
BEGIN:DAYLIGHT
DTSTART:20280326T020000
TZOFFSETFROM:+0000
TZOFFSETTO:+0100
TZNAME:BST
END:DAYLIGHT
BEGIN:STANDARD
DTSTART:20281029T010000
TZOFFSETFROM:+0100
TZOFFSETTO:+0000
TZNAME:GMT
END:STANDARD
BEGIN:DAYLIGHT
DTSTART:20290325T020000
TZOFFSETFROM:+0000
TZOFFSETTO:+0100
TZNAME:BST
END:DAYLIGHT
BEGIN:STANDARD
DTSTART:20291028T010000
TZOFFSETFROM:+0100
TZOFFSETTO:+0000
TZNAME:GMT
END:STANDARD
BEGIN:DAYLIGHT
DTSTART:20300331T020000
TZOFFSETFROM:+0000
TZOFFSETTO:+0100
TZNAME:BST
END:DAYLIGHT
END:VTIMEZONE
END:VCALENDAR